BEGIN:VCALENDAR
VERSION:2.0
PRODID:-//My Community Diary//iCal Event//EN
CALSCALE:GREGORIAN
METHOD:PUBLISH
BEGIN:VEVENT
UID:a994c115-5193-4927-b100-50a1221baf01
DTSTAMP:20260422T000658Z
DTSTART;TZID=E. Australia Standard Time:20200807T100000
DTEND;TZID=E. Australia Standard Time:20200807T120000
SUMMARY:disability Arts
DESCRIPTION:\n	Consider Why You Want to Take up&nbsp\;Painting&nbsp\;and What You Want to Get out of It.\n	Pick Your Medium (Acrylics\, Oils or Watercolors)\n	Get Your Supplies.\n	Get Familiar with the Fundamentals of Art.\n	Decide What You Want to Paint First.\n	Create Your First&nbsp\;Painting.\n	Review and Improve.\n\n
LOCATION:Harlaxton Neighbourhood Centre Inc\, 17D Coonan Street\, Harlaxton QLD 4350\, QLD\, 4350
RRULE:FREQ=DAILY;INTERVAL=7
END:VEVENT
END:VCALENDAR
