BEGIN:VCALENDAR
VERSION:2.0
PRODID:-//My Community Diary//iCal Event//EN
CALSCALE:GREGORIAN
METHOD:PUBLISH
BEGIN:VEVENT
UID:96db149f-1e18-4d37-908a-80385d435d5b
DTSTAMP:20260422T031932Z
DTSTART;TZID=E. Australia Standard Time:20200805T100000
DTEND;TZID=E. Australia Standard Time:20200805T120000
SUMMARY:Walking Group
DESCRIPTION:Walking gets the feet moving\, the blood moving\, the mind moving. And movement is life\n
LOCATION:Harlaxton Neighbourhood Centre Inc\, 17D Coonan Street\, Harlaxton QLD 4350\, QLD\, 4350
RRULE:FREQ=DAILY;INTERVAL=7
END:VEVENT
END:VCALENDAR
