BEGIN:VCALENDAR
VERSION:2.0
PRODID:-//My Community Diary//iCal Event//EN
CALSCALE:GREGORIAN
METHOD:PUBLISH
BEGIN:VEVENT
UID:de9cf203-82c6-477f-9b3b-eb0afb9ba306
DTSTAMP:20260422T001615Z
DTSTART;TZID=E. Australia Standard Time:20200804T133000
DTEND;TZID=E. Australia Standard Time:20200804T150000
SUMMARY:Indoors Bowl
DESCRIPTION:Rules of the game\nThe rules for indoor bowls are simple:&nbsp\;\n\n\n	Players must keep one foot on the mat when bowling\n	The jack must travel a minimum of 23 metres without going over the rink boundaries\n	Bowls that land in the ditch are considered out of the game\, unless they touch the jack before coming to a stop – in which case they are considered ‘alive’ and can still be played\n	If the jack goes over the rink boundaries\, it is replayed\n	If the jack lands in the ditch it remains in play\n	In singles and pairs games\, each player bowls four times per end\; for teams of three\, each player gets three bowls\; teams of four get two bowls per end\n\n
LOCATION:Harlaxton Neighbourhood Centre Inc\, 17D Coonan Street\, Harlaxton QLD 4350\, QLD\, 4350
RRULE:FREQ=DAILY;INTERVAL=7
END:VEVENT
END:VCALENDAR
