BEGIN:VCALENDAR
VERSION:2.0
PRODID:-//My Community Diary//iCal Event//EN
CALSCALE:GREGORIAN
METHOD:PUBLISH
BEGIN:VEVENT
UID:1f26d906-8fed-44de-a64f-7eda76b16c56
DTSTAMP:20260422T000548Z
DTSTART;TZID=E. Australia Standard Time:20200803T093000
DTEND;TZID=E. Australia Standard Time:20200803T120000
SUMMARY:Hoy
DESCRIPTION:STARTS 9.30AM morning tea and cuppa provided.\n1 card for $5 then every other card is extra $1\n\nHow Hoy is played\n\nThe person in charge of the activity needs to give each player a Hoy Game Sheet and 9 or 13 counters or chips for them to mark the cards on their sheet.\n\nThe dealer then takes their pack of cards and turns a card over one at a time calling that card out to the group\n\nIf any player has that card on their Hoy Sheet they put a marker on that card.\n\nThe game continues until a player gets all of their cards on their hoy game sheet marked\, when they do they call hoy.\n
LOCATION:Harlaxton Neighbourhood Centre Inc\, 17D Coonan Street\, Harlaxton QLD 4350\, QLD\, 4350
RRULE:FREQ=DAILY;INTERVAL=7
END:VEVENT
END:VCALENDAR
