BEGIN:VCALENDAR
VERSION:2.0
PRODID:-//My Community Diary//iCal Event//EN
CALSCALE:GREGORIAN
METHOD:PUBLISH
BEGIN:VEVENT
UID:0a7e8304-b8fd-4bea-a53b-09c3be249355
DTSTAMP:20260422T002828Z
DTSTART;TZID=E. Australia Standard Time:20200806T100000
DTEND;TZID=E. Australia Standard Time:20200806T130000
SUMMARY:Fruit and Vege Day
DESCRIPTION:$15 a box&nbsp\;\nPre-order is welcomed and paid on the day&nbsp\;\n\nDelivery can be arranged if you cannot come along and pick up&nbsp\;\n\nCash payment as we do not have eftpos\n
LOCATION:Harlaxton Neighbourhood Centre Inc\, 17D Coonan Street\, Harlaxton QLD 4350\, QLD\, 4350
RRULE:FREQ=DAILY;INTERVAL=14
END:VEVENT
END:VCALENDAR
