BEGIN:VCALENDAR
VERSION:2.0
PRODID:-//My Community Diary//iCal Event//EN
CALSCALE:GREGORIAN
METHOD:PUBLISH
BEGIN:VEVENT
UID:40429556-70e5-4cbd-bc8c-74d6307fc3ec
DTSTAMP:20260424T164548Z
DTSTART;TZID=W. Australia Standard Time:20200806T091500
DTEND;TZID=W. Australia Standard Time:20200806T101500
SUMMARY:Men & Women Linedance Latin & Ballroom 
DESCRIPTION:For this class Men &amp\; Women have the option to arrive when doors open 9am for some handy hints and cover some basic step patterns\, direction and timing. You will learn solo routines to the following rhythms: Waltz\, Tango\, Quickstep\, Foxtrot\, Jive\, Rock\, Samba\, Cha Cha Cha\, Rumba &amp\; Bachata. Each class we dance 6 routines. Everyone spaces themselves evenly around the room. We go through the dance steps prior to the music. Each routine can consist up to a 48 count\, with various step patterns and sometimes recommence facing a new line of dance.&nbsp\;&nbsp\;\n\n&nbsp\;\n\nNEW STUDENTS arrive 15mins early no need to book. Just turn-up First class special $10\n\nNot open Public Holidays\n
LOCATION:RSL Hall Capel\, RSL Hall\, Forrest Road\, Capel WA\, Australia\, WA\, 6271
RRULE:FREQ=WEEKLY;INTERVAL=1;BYDAY=TH;UNTIL=20220520T000000Z
END:VEVENT
END:VCALENDAR
