BEGIN:VCALENDAR
VERSION:2.0
PRODID:-//My Community Diary//iCal Event//EN
CALSCALE:GREGORIAN
METHOD:PUBLISH
BEGIN:VEVENT
UID:92b659d8-134f-4b99-8fe1-a337315532b6
DTSTAMP:20260424T164948Z
DTSTART;TZID=W. Australia Standard Time:20200803T181500
DTEND;TZID=W. Australia Standard Time:20200803T191500
SUMMARY:Linedance Latin & Ballroom - Busselton
DESCRIPTION:For this class Men &amp\; Women\, all&nbsp\;abilities &nbsp\;have the option to arrive just after the Salsa class finishes for handy hints and cover some basic step patterns\, direction and timing. You will learn solo routines to the following rhythms: Waltz\, Tango\, Quickstep\, Foxtrot\, Jive\, Rock\, Samba\, Cha Cha Cha\, Rumba\, Bachata. Each class we dance 6-8 routines. Everyone spaces themselves evenly around the room. We go through the dance steps prior to the music. Each routine can consist up to a 48 count\, with various step patterns and sometimes recommence facing a new line of dance.&nbsp\;&nbsp\;\n\n(closed pub hol)\n\nNEW STUDENTS please arrive early\n\nRegister dancesteps@mail.com or text 0438 913 791\n\nFirst class special $10 cash on arrival\n
LOCATION:Churchill Park \, 78 Adelaide Street\, Busselton WA\, Australia\, WA\, 6280
RRULE:FREQ=WEEKLY;INTERVAL=1;BYDAY=MO
END:VEVENT
END:VCALENDAR
