BEGIN:VCALENDAR
VERSION:2.0
PRODID:-//My Community Diary//iCal Event//EN
CALSCALE:GREGORIAN
METHOD:PUBLISH
BEGIN:VEVENT
UID:7068ffa9-ecdf-4007-970f-09b8b5b21537
DTSTAMP:20260424T164948Z
DTSTART;TZID=W. Australia Standard Time:20220523T171500
DTEND;TZID=W. Australia Standard Time:20220523T181500
SUMMARY:Salsa Rueda Dance - Beginners/Improvers
DESCRIPTION:In this class you join a Salsa Rueda where you change partners and have some fun. You do not require a partner to attend. An instructor or another student attending the Dance Steps community will partner you whilst learning. If attending with a partner please see opening comments*. Everyone learns together the basic timing and various step directions. Then as a group we create a circle and dance a sequenced routine as an introduction to Salsa Rueda. Please see Facebook/YouTube for demos\n\nNEW STUDENTS arrive on time&nbsp\;please\n\nRegister dancesteps@mail.com or text only - 0438 913 791\n\nFirst class special $10 cash on arrival\n
LOCATION:Churchill Park Hall\, Churchill Park : Linedance - Ballroom - Latin - Salsa : Dance Steps South West\, Adelaide Street\, Busselton WA\, Australia\, WA\, 6280
RRULE:FREQ=WEEKLY;INTERVAL=1;BYDAY=MO
END:VEVENT
END:VCALENDAR
