BEGIN:VCALENDAR
VERSION:2.0
PRODID:-//My Community Diary//iCal Event//EN
CALSCALE:GREGORIAN
METHOD:PUBLISH
BEGIN:VEVENT
UID:fb4675ca-15fe-4cfb-ad76-f9bafbeec720
DTSTAMP:20260424T164548Z
DTSTART;TZID=W. Australia Standard Time:20220524T173000
DTEND;TZID=W. Australia Standard Time:20220524T183000
SUMMARY:Waltz\, Salsa\, Quickstep\, Bachata - Boyanup
DESCRIPTION:3 weeks course $45 where you will learn one of the following dances\n\nWaltz&nbsp\; - Salsa&nbsp\; - Quickstep&nbsp\; - Bachata\n\nNo partner necessary dance with another student or instructor\n\nemail for more info dancesteps@mail.com&nbsp\;&nbsp\;\n\nor text only 0438 913 791\n
LOCATION:Dance Steps South West - Boyanup\, 20 South Western Highway\, Boyanup WA 6237\, WA\, 6237
RRULE:FREQ=WEEKLY;INTERVAL=1;BYDAY=TU
END:VEVENT
END:VCALENDAR
