BEGIN:VCALENDAR
VERSION:2.0
PRODID:-//My Community Diary//iCal Event//EN
CALSCALE:GREGORIAN
METHOD:PUBLISH
BEGIN:VEVENT
UID:45ae5a17-fedc-4897-9385-0438bd80a6ec
DTSTAMP:20260424T164531Z
DTSTART;TZID=W. Australia Standard Time:20200803T104500
DTEND;TZID=W. Australia Standard Time:20200803T114500
SUMMARY:Men & Women Disco-Ability
DESCRIPTION:If possible\, we strongly recommend students arrive when doors open 10.30am\, be settled and ready to commence 10.45am and enjoy the entire fun hour of dancing. (Unfortunately\, not a minute before as per above class finishing). Drink bottle encouraged and layers of clothing as it can get very warm.\n\nFor this class Men &amp\; Women who may require assistance with everyday activities can attend with their support person (or on their own) to enjoy a morning of music and disco lights. The class starts in a large circle for a routine of movement and warm-up. We then follow on with some traditional well-known dances. The morning music continues for open dance to music of old and new. We finish with a conga and dance circle. Wheel Chair access and disability toilets available\n\nNEW STUDENTS arrive 15mins early no need to book. Just turn-up First class special $10\n\nSouth West Italian Club White Street Bunbury\n\nNot open Public Holidays\n\nChristmas Party 19th December 2022\n\nWe recommence 23rd January 2023\n
LOCATION:South West Italian Club\, 13 White Street\, East Bunbury WA 6230\, WA
RRULE:FREQ=WEEKLY;INTERVAL=1;BYDAY=MO;COUNT=9
END:VEVENT
END:VCALENDAR
