BEGIN:VCALENDAR
VERSION:2.0
PRODID:-//My Community Diary//iCal Event//EN
CALSCALE:GREGORIAN
METHOD:PUBLISH
BEGIN:VEVENT
UID:cff11367-ae80-4d08-875e-d513abf53cf0
DTSTAMP:20260424T155946Z
DTSTART:20240518T123000Z
DTEND:20240518T163000Z
SUMMARY:The Dirty Pig & Whistle
DESCRIPTION:Race or ride gravel course options through the picturesque fields\, farms and forests of the Goldfields of central Victoria. Great times\, great coffee and great food. Together.\n\nBeyond great riding and good times\, ‘The Dirty Pig & Whistle’ is also about community and a commitment to support the fabulous work of Big Brothers Big Sisters of Australia (BBBS). Join to ride some gravel and do some good. \n\nFundraise through the event and spread the word.\n\nEntry Cost\nAll tickets $20  - Concession and family passes available
LOCATION:\, Water Street\, Creswick\, VIC 3363\, VIC\, 3363
RRULE:FREQ=DAILY;INTERVAL=1;UNTIL=20240520T000000Z
END:VEVENT
END:VCALENDAR
