BEGIN:VCALENDAR
VERSION:2.0
PRODID:-//My Community Diary//iCal Event//EN
CALSCALE:GREGORIAN
METHOD:PUBLISH
BEGIN:VEVENT
UID:7b5c7fc8-9790-4638-9d5d-55f38642b2bb
DTSTAMP:20260424T155121Z
DTSTART;TZID=E. Australia Standard Time:20200715T150000
DTEND;TZID=E. Australia Standard Time:20200715T170000
SUMMARY:Active Physio AFL Program  
DESCRIPTION:AFL is our offering for Term 3. So come and get ready to JUMP!!! Program runs&nbsp\;every Wednesday&nbsp\;for 8 weeks. Due to COVID19 we are only allowed 6 Young People ONLY. You must register to reserve your spot. Call us on 4961 9278 or email us on sarinayouthcentre@mackay.qld.gov.au. Check out our Facebook page for more details.&nbsp\;\n
LOCATION:Sarina Youth Centre\, Cnr of Anzac Street and Broad Streets\, Sarina QLD 4737\, QLD\, 4737
RRULE:FREQ=WEEKLY;INTERVAL=1;BYDAY=WE
END:VEVENT
END:VCALENDAR
