BEGIN:VCALENDAR
VERSION:2.0
PRODID:-//My Community Diary//iCal Event//EN
CALSCALE:GREGORIAN
METHOD:PUBLISH
BEGIN:VEVENT
UID:b6bb51b5-3465-4c9a-bb7b-820abe3b2e9f
DTSTAMP:20260424T160021Z
DTSTART;TZID=E. Australia Standard Time:20200702T110000
DTEND;TZID=E. Australia Standard Time:20200702T123000
SUMMARY:Drug Arm MOSHPIT
DESCRIPTION:BBQ along with Hot &amp\; Drinks\, Fresh Food Hampers\n
LOCATION:Rotary Park\, Gympie Road\, Aspley QLD\, Australia\, QLD\, 4034
RRULE:FREQ=WEEKLY;INTERVAL=1;BYDAY=TH;UNTIL=20231215T000000Z
END:VEVENT
END:VCALENDAR
