BEGIN:VCALENDAR
VERSION:2.0
PRODID:-//My Community Diary//iCal Event//EN
CALSCALE:GREGORIAN
METHOD:PUBLISH
BEGIN:VEVENT
UID:1525d0aa-b6d6-4ec3-818d-5a00020e3665
DTSTAMP:20260424T160020Z
DTSTART;TZID=E. Australia Standard Time:20200702T080000
DTEND;TZID=E. Australia Standard Time:20200702T160000
SUMMARY:Social Worker
DESCRIPTION:SWHHS provides clinical Social Work services for people who require assistance with Personal Matters.\n
LOCATION:Nuriyn Wellness Centre\, 197 McDowall Street\, Roma QLD 4455\, QLD\, 4455
RRULE:FREQ=WEEKLY;INTERVAL=1;BYDAY=TH,FR
END:VEVENT
END:VCALENDAR
