BEGIN:VCALENDAR
VERSION:2.0
PRODID:-//My Community Diary//iCal Event//EN
CALSCALE:GREGORIAN
METHOD:PUBLISH
BEGIN:VEVENT
UID:678886c4-f44c-4f5f-88a9-a28dd6a4878c
DTSTAMP:20260424T160021Z
DTSTART;TZID=E. Australia Standard Time:20200629T090000
DTEND;TZID=E. Australia Standard Time:20200629T150000
SUMMARY:Social Worker
DESCRIPTION:SWHHS provides clinical Social Work services for people who require assistance with personal matters.\n
LOCATION:Nuriyn Wellness Centre\, 197 McDowall Street\, Roma QLD 4455\, QLD\, 4455
RRULE:FREQ=WEEKLY;INTERVAL=1;BYDAY=MO,TU,WE
END:VEVENT
END:VCALENDAR
