BEGIN:VCALENDAR
VERSION:2.0
PRODID:-//My Community Diary//iCal Event//EN
CALSCALE:GREGORIAN
METHOD:PUBLISH
BEGIN:VEVENT
UID:17208b9a-01bf-432d-9ed0-85b457b4e5a5
DTSTAMP:20260424T155033Z
DTSTART;TZID=E. Australia Standard Time:20200626T103000
DTEND;TZID=E. Australia Standard Time:20200626T150000
SUMMARY:Exercise Physiologist 
DESCRIPTION:SWHHS provides clinical&nbsp\;Exercise Physiology&nbsp\;for people who require assistance with&nbsp\;Cardiac Rehabilitation\, Pulmonary&nbsp\;Rehabilitation and&nbsp\;Chronic Management&nbsp\;.\n
LOCATION:St George Community &  Allied Health\, Victoria Street\, Saint George QLD 4487\, QLD\, 4487
RRULE:FREQ=WEEKLY;BYDAY=MO,TU,WE,TH,FR
END:VEVENT
END:VCALENDAR
