BEGIN:VCALENDAR
VERSION:2.0
PRODID:-//My Community Diary//iCal Event//EN
CALSCALE:GREGORIAN
METHOD:PUBLISH
BEGIN:VEVENT
UID:8175ae1f-35c3-4409-8061-02abd2f78af1
DTSTAMP:20260421T222215Z
DTSTART;TZID=E. Australia Standard Time:20200701T100000
DTEND;TZID=E. Australia Standard Time:20200701T143000
SUMMARY:Continence Nurse - Mitchell
DESCRIPTION:SWHHS provides clinical Continence Services for people who require assistance with General Management and Education.\n
LOCATION:Mitchell Multipurpose Health Service\, 95 Ann Street\, Mitchell QLD 4465\, QLD\, 4465
RRULE:FREQ=MONTHLY;INTERVAL=1;BYDAY=3MO
END:VEVENT
END:VCALENDAR
