BEGIN:VCALENDAR
VERSION:2.0
PRODID:-//My Community Diary//iCal Event//EN
CALSCALE:GREGORIAN
METHOD:PUBLISH
BEGIN:VEVENT
UID:38c4d7fd-3790-4f4e-815c-31c8117ea8dd
DTSTAMP:20260424T155836Z
DTSTART;TZID=E. Australia Standard Time:20200728T083000
DTEND;TZID=E. Australia Standard Time:20200728T150000
SUMMARY:Continence Nurse
DESCRIPTION:SWHHS provides clinical Continence Services for people who require assistance with General Management and Education.\n
LOCATION:Nuriyn Wellness Centre\, 197 McDowall Street\, Roma QLD 4455\, QLD\, 4455
RRULE:FREQ=MONTHLY;INTERVAL=1;BYDAY=3MO
END:VEVENT
END:VCALENDAR
