BEGIN:VCALENDAR
VERSION:2.0
PRODID:-//My Community Diary//iCal Event//EN
CALSCALE:GREGORIAN
METHOD:PUBLISH
BEGIN:VEVENT
UID:5f91a330-0554-47f1-b8e5-2a19ef4544da
DTSTAMP:20260424T155836Z
DTSTART;TZID=E. Australia Standard Time:20200714T083000
DTEND;TZID=E. Australia Standard Time:20200714T150000
SUMMARY:Continence Nurse
DESCRIPTION:SWHHS provides clinical&nbsp\;Continence&nbsp\;Services for people who require assistance with General Management and Education.\n
LOCATION:Nuriyn Wellness Centre\, 197 McDowall Street\, Roma QLD 4455\, QLD\, 4455
RRULE:FREQ=MONTHLY;INTERVAL=1;BYDAY=3MO
END:VEVENT
END:VCALENDAR
