BEGIN:VCALENDAR
VERSION:2.0
PRODID:-//My Community Diary//iCal Event//EN
CALSCALE:GREGORIAN
METHOD:PUBLISH
BEGIN:VEVENT
UID:6f5fefe9-2bc3-4526-83c4-29c92f3f2f07
DTSTAMP:20260424T154910Z
DTSTART;TZID=E. Australia Standard Time:20200707T083000
DTEND;TZID=E. Australia Standard Time:20200707T150000
SUMMARY:Continence Nurse
DESCRIPTION:SWHHS provides clinical&nbsp\;Continence&nbsp\;Services for people who require assistance with General Management and Education.\n
LOCATION:Nuriyn Wellness Centre\, 197 McDowall Street\, Roma QLD 4455\, QLD\, 4455
RRULE:FREQ=MONTHLY;INTERVAL=1;BYDAY=3MO
END:VEVENT
END:VCALENDAR
