BEGIN:VCALENDAR
VERSION:2.0
PRODID:-//My Community Diary//iCal Event//EN
CALSCALE:GREGORIAN
METHOD:PUBLISH
BEGIN:VEVENT
UID:df53a72c-3e9c-4407-909a-2dbfcf8e71a9
DTSTAMP:20260424T160512Z
DTSTART;TZID=E. Australia Standard Time:20200703T083000
DTEND;TZID=E. Australia Standard Time:20200703T120000
SUMMARY:Diabetes Educator Clinic
DESCRIPTION:SWHHS provides clinical&nbsp\;Diabetes Educator&nbsp\;Services for people who require assistance with General Management and Education for Diabetes.\n
LOCATION:Nuriyn Wellness Centre\, 197 McDowall Street\, Roma QLD 4455\, QLD\, 4455
RRULE:FREQ=WEEKLY;INTERVAL=1;BYDAY=FR
END:VEVENT
END:VCALENDAR
