BEGIN:VCALENDAR
VERSION:2.0
PRODID:-//My Community Diary//iCal Event//EN
CALSCALE:GREGORIAN
METHOD:PUBLISH
BEGIN:VEVENT
UID:d90769a1-a975-4bae-8e21-9f5ab1456f27
DTSTAMP:20260424T155900Z
DTSTART;TZID=E. Australia Standard Time:20200708T100000
DTEND;TZID=E. Australia Standard Time:20200708T160000
SUMMARY:Diabetes Educator Clinic
DESCRIPTION:SWHHS provides clinical&nbsp\;Diabetes Educator&nbsp\;Services for people who require assistance with General Management and Education for Diabetes.\n
LOCATION:Nuriyn Wellness Centre\, 197 McDowall Street\, Roma QLD 4455\, QLD\, 4455
RRULE:FREQ=WEEKLY;INTERVAL=1;BYDAY=WE
END:VEVENT
END:VCALENDAR
