BEGIN:VCALENDAR
VERSION:2.0
PRODID:-//My Community Diary//iCal Event//EN
CALSCALE:GREGORIAN
METHOD:PUBLISH
BEGIN:VEVENT
UID:9849209c-500e-444b-ba34-e1cede00230f
DTSTAMP:20260421T224127Z
DTSTART;TZID=E. Australia Standard Time:20200702T093000
DTEND;TZID=E. Australia Standard Time:20200702T150000
SUMMARY:Diabetes Educator Clinic
DESCRIPTION:SWHHS provides clinical&nbsp\;Diabetes Educator&nbsp\;Services for people who require assistance with Education and Management around Diabetes.\n
LOCATION:Mitchell Multipurpose Health Service\, 95 Ann Street\, Mitchell QLD 4465\, QLD\, 4465
RRULE:FREQ=MONTHLY;INTERVAL=1;BYDAY=3MO
END:VEVENT
END:VCALENDAR
