BEGIN:VCALENDAR
VERSION:2.0
PRODID:-//My Community Diary//iCal Event//EN
CALSCALE:GREGORIAN
METHOD:PUBLISH
BEGIN:VEVENT
UID:17ae4caf-c0f3-419d-a2b7-a234470afa64
DTSTAMP:20260422T020200Z
DTSTART;TZID=E. Australia Standard Time:20200709T093000
DTEND;TZID=E. Australia Standard Time:20200709T150000
SUMMARY:Diabetes Educator Outreach Clinic - Wallumbilla
DESCRIPTION:SWHHS provides clinical&nbsp\;Diabetes Educator&nbsp\;services for people who require assistance with&nbsp\;Education and Management&nbsp\;around Diabetes.\n
LOCATION:Wallumbilla Community Clinic\, Stakeyard Road\, Wallumbilla QLD 4428\, QLD\, 4428
RRULE:FREQ=MONTHLY;INTERVAL=1;BYDAY=3MO
END:VEVENT
END:VCALENDAR
