BEGIN:VCALENDAR
VERSION:2.0
PRODID:-//My Community Diary//iCal Event//EN
CALSCALE:GREGORIAN
METHOD:PUBLISH
BEGIN:VEVENT
UID:bfa811dc-c6fb-439d-8389-b08c7aac4d22
DTSTAMP:20260422T054233Z
DTSTART;TZID=E. Australia Standard Time:20200709T093000
DTEND;TZID=E. Australia Standard Time:20200709T143000
SUMMARY:Dietetics Outreach Clinic - Wallumbilla
DESCRIPTION:SWHHS provides clinical dietetic services for people who require assistance with diet and nutrition\n
LOCATION:Wallumbilla Community Clinic\, Stakeyard Road\, Wallumbilla QLD 4428\, QLD\, 4428
RRULE:FREQ=MONTHLY;INTERVAL=1;BYDAY=3MO
END:VEVENT
END:VCALENDAR
