BEGIN:VCALENDAR
VERSION:2.0
PRODID:-//My Community Diary//iCal Event//EN
CALSCALE:GREGORIAN
METHOD:PUBLISH
BEGIN:VEVENT
UID:160463e4-37f4-4d59-a016-656ef07cef76
DTSTAMP:20260423T143628Z
DTSTART;TZID=E. Australia Standard Time:20200728T093000
DTEND;TZID=E. Australia Standard Time:20200728T143000
SUMMARY:Dietetics Outreach Clinic - Injune
DESCRIPTION:SWHHS provides clinical dietetic services for people who require assistance with diet and nutrition\n
LOCATION:Injune Multipurpose Health Service\, Fifth Avenue\, Injune QLD 4454\, QLD\, 4454
RRULE:FREQ=MONTHLY;INTERVAL=1;BYDAY=3MO
END:VEVENT
END:VCALENDAR
