BEGIN:VCALENDAR
VERSION:2.0
PRODID:-//My Community Diary//iCal Event//EN
CALSCALE:GREGORIAN
METHOD:PUBLISH
BEGIN:VEVENT
UID:d80515df-a00d-4c14-99ed-8e116f2e54c7
DTSTAMP:20260424T154950Z
DTSTART;TZID=E. Australia Standard Time:20210913T153000
DTEND;TZID=E. Australia Standard Time:20210913T170000
SUMMARY:Minecraft Club
DESCRIPTION:Complete challenges and learn new skills while connecting with other Crafters on the Moreton Bay Library server.\n\nJoin in from home using your own Bedrock or Java account or book a spot on one of the library computers.\n\nOur club is open to ages 6-17 years with sessions each week on Tuesdays 3:30 PM to 5:00 PM.\n\nThere are five types of tickets for our club - online\, Caboolture\, North Lakes\, Burpengary and Redcliffe - select from the buttons on the registration page. Choose the&nbsp\;online&nbsp\;ticket if you want to play from home\, or select the library you wish to visit to use our PCs.\n\nBookings required and open each Tuesday for the following week.\n\nParticipants will need:\n\n\n	Moreton Bay Region Libraries membership. Not a member? Join&nbsp\;here.\n	A Minecraft JAVA OR Bedrock account. We’ll need to know your username so we can add you to the whitelist&nbsp\;(the list of users who can access the server for the session). At the appropriate time\, please log on to Minecraft and join the library server: JAVA&nbsp\;moreton.connectminecraft.com\; Bedrock moreton.connectminecraft.com port 25677 (if you cannot attend\, please cancel your registration by calling us on 3480 9900\, so we can notify attendees on the waitlist.)&nbsp\;\n	Book in via the Libraries website. You will be contacted before the event to confirm access to the server. If you have any questions\, please email&nbsp\;North Lakes Library.\n	Parent/guardian supervision.\n\n\nWe ask that all participants follow the Library server rules:\n\n\n	No griefing - destroying or interfering with other people’s builds.\n	No swearing or inappropriate language/symbols.\n	No bullying or harassing others.\n	No sharing personal or identifying information.\n	No breaking through the ground to the void.\n	Be responsible for your own actions. No invisibility.\n\n\nAll chat and commands on the server are logged and monitored. Participants are expected to play fair and follow staff instructions so everyone can have fun. We reserve the right to terminate your session if rules are broken.&nbsp\;\n\n&nbsp\;\n
LOCATION:Libraries Online - Moreton Bay Regional Council\, North Lakes QLD 4509\, QLD\, 4509
RRULE:FREQ=WEEKLY;INTERVAL=1;BYDAY=TU;UNTIL=20221221T000000Z
END:VEVENT
END:VCALENDAR
