BEGIN:VCALENDAR
VERSION:2.0
PRODID:-//My Community Diary//iCal Event//EN
CALSCALE:GREGORIAN
METHOD:PUBLISH
BEGIN:VEVENT
UID:f004951b-17eb-403f-83e1-0205ad48ffb3
DTSTAMP:20260423T112015Z
DTSTART;TZID=E. Australia Standard Time:20200708T093000
DTEND;TZID=E. Australia Standard Time:20200708T140000
SUMMARY:Occupational Therapy Outreach Clinic - Mitchell
DESCRIPTION:SWHHS provides clinical&nbsp\;Occupational Therapy&nbsp\;Services for people who require assistance with Management and care of Hand and Wrist injury's.\n
LOCATION:Mitchell Multipurpose Health Service\, 95 Ann Street\, Mitchell QLD 4465\, QLD\, 4465
RRULE:FREQ=WEEKLY;INTERVAL=1;BYDAY=WE
END:VEVENT
END:VCALENDAR
