BEGIN:VCALENDAR
VERSION:2.0
PRODID:-//My Community Diary//iCal Event//EN
CALSCALE:GREGORIAN
METHOD:PUBLISH
BEGIN:VEVENT
UID:f2c25413-7e5f-455d-939f-358e96faa832
DTSTAMP:20260424T160633Z
DTSTART;TZID=E. Australia Standard Time:20200703T083000
DTEND;TZID=E. Australia Standard Time:20200703T113000
SUMMARY:Occupational Therapy Clinic
DESCRIPTION:SWHHS provides clinical&nbsp\;Occupational Therapy&nbsp\;Services for people who require assistance with management and care&nbsp\;of&nbsp\;Hand and Wrist related injures.&nbsp\;&nbsp\;\n
LOCATION:Nuriyn Wellness Centre\, 197 McDowall Street\, Roma QLD 4455\, QLD\, 4455
RRULE:FREQ=WEEKLY;INTERVAL=2;BYDAY=FR
END:VEVENT
END:VCALENDAR
