BEGIN:VCALENDAR
VERSION:2.0
PRODID:-//My Community Diary//iCal Event//EN
CALSCALE:GREGORIAN
METHOD:PUBLISH
BEGIN:VEVENT
UID:942302e7-ccb5-4837-962d-835b70690a84
DTSTAMP:20260424T155948Z
DTSTART;TZID=E. Australia Standard Time:20200629T083000
DTEND;TZID=E. Australia Standard Time:20200629T153000
SUMMARY:Wound Nurse
DESCRIPTION:SWHHS provides clinical&nbsp\;Wound Management&nbsp\;Services for people who require assistance with the Management and care&nbsp\;of Wounds.\n
LOCATION:Nuriyn Wellness Centre\, 197 McDowall Street\, Roma QLD 4455\, QLD\, 4455
RRULE:FREQ=WEEKLY;BYDAY=MO,TU,WE,TH,FR
END:VEVENT
END:VCALENDAR
