BEGIN:VCALENDAR
VERSION:2.0
PRODID:-//My Community Diary//iCal Event//EN
CALSCALE:GREGORIAN
METHOD:PUBLISH
BEGIN:VEVENT
UID:6690356d-ef90-4609-8cab-409b547c675e
DTSTAMP:20260424T100604Z
DTSTART;TZID=E. Australia Standard Time:20200721T093000
DTEND;TZID=E. Australia Standard Time:20200721T143000
SUMMARY:Podiarty Outreach Clinic - Surat
DESCRIPTION:SWHHS provides clinical Podiatry Services for people who require assistance with General Nail and Foot Care.\n
LOCATION:Surat Multipurpose Health Service\, 2 Ivan St\, Surat QLD 4417\, QLD\, 4417
RRULE:FREQ=MONTHLY;INTERVAL=1;BYDAY=3MO
END:VEVENT
END:VCALENDAR
