BEGIN:VCALENDAR
VERSION:2.0
PRODID:-//My Community Diary//iCal Event//EN
CALSCALE:GREGORIAN
METHOD:PUBLISH
BEGIN:VEVENT
UID:4bc44a49-3c19-4f8f-8a44-ad1f15b205c5
DTSTAMP:20260424T160715Z
DTSTART;TZID=E. Australia Standard Time:20200708T083000
DTEND;TZID=E. Australia Standard Time:20200708T140000
SUMMARY:Podiatry Clinic
DESCRIPTION:SWHHS provides clinical&nbsp\;Podiatry Services for people who require assistance with General foot and nail care.\n
LOCATION:Nuriyn Wellness Centre\, 197 McDowall Street\, Roma QLD 4455\, QLD\, 4455
RRULE:FREQ=MONTHLY;INTERVAL=1;BYDAY=3MO
END:VEVENT
END:VCALENDAR
