BEGIN:VCALENDAR
VERSION:2.0
PRODID:-//My Community Diary//iCal Event//EN
CALSCALE:GREGORIAN
METHOD:PUBLISH
BEGIN:VEVENT
UID:fb9a65b1-4fa5-417c-8a25-0b1abdacd130
DTSTAMP:20260424T160642Z
DTSTART;TZID=E. Australia Standard Time:20200629T083000
DTEND;TZID=E. Australia Standard Time:20200629T140000
SUMMARY:Podiatry Clinic
DESCRIPTION:SWHHS provides clinical&nbsp\;Podiatry Services for people who require assistance with&nbsp\;General foot and nail care..\n
LOCATION:Nuriyn Wellness Centre\, 197 McDowall Street\, Roma QLD 4455\, QLD\, 4455
RRULE:FREQ=WEEKLY;INTERVAL=1;BYDAY=MO
END:VEVENT
END:VCALENDAR
