BEGIN:VCALENDAR
VERSION:2.0
PRODID:-//My Community Diary//iCal Event//EN
CALSCALE:GREGORIAN
METHOD:PUBLISH
BEGIN:VEVENT
UID:3e9b0ba2-2929-428b-86e8-d27877320409
DTSTAMP:20260422T054227Z
DTSTART;TZID=E. Australia Standard Time:20200806T123000
DTEND;TZID=E. Australia Standard Time:20200806T150000
SUMMARY:Physiotherapy Outreach Clinic - Wullumbilla
DESCRIPTION:SWHHS provides clinical Physiotherapy Services for people who require assistance with Mobility\, Management of Pain and Exercises.\n
LOCATION:Wallumbilla Community Clinic\, Stakeyard Road\, Wallumbilla QLD 4428\, QLD\, 4428
RRULE:FREQ=MONTHLY;INTERVAL=1;BYDAY=3MO
END:VEVENT
END:VCALENDAR
