BEGIN:VCALENDAR
VERSION:2.0
PRODID:-//My Community Diary//iCal Event//EN
CALSCALE:GREGORIAN
METHOD:PUBLISH
BEGIN:VEVENT
UID:c70435c3-65ae-464a-b60a-116d694fab86
DTSTAMP:20260422T021746Z
DTSTART;TZID=E. Australia Standard Time:20200716T093000
DTEND;TZID=E. Australia Standard Time:20200716T140000
SUMMARY:Physiotherapy Outreach Clinic - Injune
DESCRIPTION:SWHHS provides clinical Physiotherapy Services for people who require assistance with Mobility\, Management of Pain and Exercises.\n
LOCATION:Injune Multipurpose Health Service\, Fifth Avenue\, Injune QLD 4454\, QLD\, 4454
RRULE:FREQ=MONTHLY;INTERVAL=1;BYDAY=3MO
END:VEVENT
END:VCALENDAR
