BEGIN:VCALENDAR
VERSION:2.0
PRODID:-//My Community Diary//iCal Event//EN
CALSCALE:GREGORIAN
METHOD:PUBLISH
BEGIN:VEVENT
UID:32672567-e42c-4939-b106-68f4876348f8
DTSTAMP:20260422T105734Z
DTSTART;TZID=E. Australia Standard Time:20200709T093000
DTEND;TZID=E. Australia Standard Time:20200709T140000
SUMMARY:Physiotherapy Outreach Clinic - Surat
DESCRIPTION:SWHHS provides clinical Physiotherapy Services for people who require assistance with Mobility\, Management of Pain and Exercises.\n
LOCATION:Surat Medical Practice\, 3 Ivan Street\, Surat QLD 4417\, QLD\, 4417
RRULE:FREQ=WEEKLY;INTERVAL=2;BYDAY=TH
END:VEVENT
END:VCALENDAR
