BEGIN:VCALENDAR
VERSION:2.0
PRODID:-//My Community Diary//iCal Event//EN
CALSCALE:GREGORIAN
METHOD:PUBLISH
BEGIN:VEVENT
UID:cd8f41af-c8cf-4a98-a225-d4a3c0cfbee2
DTSTAMP:20260424T160718Z
DTSTART;TZID=E. Australia Standard Time:20200629T083000
DTEND;TZID=E. Australia Standard Time:20200629T153000
SUMMARY:Physiotherapy Clinic
DESCRIPTION:SWHHS provides clinical Physiotherapy Services for people who require assistance with Mobility\, Management of Pain and Exercises.\n
LOCATION:Nuriyn Wellness Centre\, 197 McDowall Street\, Roma QLD 4455\, QLD\, 4455
RRULE:FREQ=WEEKLY;BYDAY=MO,TU,WE,TH,FR
END:VEVENT
END:VCALENDAR
