BEGIN:VCALENDAR
VERSION:2.0
PRODID:-//My Community Diary//iCal Event//EN
CALSCALE:GREGORIAN
METHOD:PUBLISH
BEGIN:VEVENT
UID:afbac30f-2029-418f-be0e-2eca41795b95
DTSTAMP:20260422T021652Z
DTSTART;TZID=E. Australia Standard Time:20200726T140000
DTEND;TZID=E. Australia Standard Time:20200726T160000
SUMMARY:Barefoot Bowls Sunday Sesh
DESCRIPTION:Barefoot Bowls Sunday Sesh from 2pm until 4pm every Sunday.\n\nNo need to book. Challenge friends and family to a fun game of Barefoot Bowls in the Sunshine.\n\nMusic\, happy hour bar prices and&nbsp\;new deck to enjoy your beverage whilst playing.\n
LOCATION:Club Maroochy\, 15 Memorial Avenue\, Maroochydore QLD 4558\, QLD\, 4558
RRULE:FREQ=WEEKLY;INTERVAL=1;BYDAY=SU
END:VEVENT
END:VCALENDAR
