BEGIN:VCALENDAR
VERSION:2.0
PRODID:-//My Community Diary//iCal Event//EN
CALSCALE:GREGORIAN
METHOD:PUBLISH
BEGIN:VEVENT
UID:b1db7a94-6b4b-41e8-93a9-d2a12b99ae4d
DTSTAMP:20260424T173038Z
DTSTART;TZID=E. Australia Standard Time:20200920T120000
DTEND;TZID=E. Australia Standard Time:20200920T160000
SUMMARY:Glenore Grove Country Music Shindig
DESCRIPTION:Glenore Grove Country Music Association has its monthly Shindig on the Third Sunday of the month. Live Band and walk up artists are welcome. $7&nbsp\;entry which includes afternoon tea. Come along for a great afternoon of country music\, great band\, great people and a reason to meet new friends. For more information contact Rosealie on 0418 875 939.\n
LOCATION:Glenore Grove Hall\, 9 Brightview Road\, Glenore Grove QLD\, Australia\, QLD\, 4342
RRULE:FREQ=MONTHLY;INTERVAL=1;BYDAY=3MO
END:VEVENT
END:VCALENDAR
