BEGIN:VCALENDAR
VERSION:2.0
PRODID:-//My Community Diary//iCal Event//EN
CALSCALE:GREGORIAN
METHOD:PUBLISH
BEGIN:VEVENT
UID:2e0aaf62-2682-4f3c-8632-eb12a400e348
DTSTAMP:20260424T160715Z
DTSTART:20240101T090000Z
DTEND:20240101T180000Z
SUMMARY:Perlubie Beach Sports Day
DESCRIPTION:Perlubie Beach Sports held since 1914 and celebrated each year on New Years Day is an event with a character and quirkiness all of its own.\n\nOn New Years Day locals and visitors in and around Streaky Bay flock to Perlubie Beach for the  ‘must experience’ event to bring in the New Year.\n\nCelebrating 110 years in 2023.\n\nA varied athletic program commences at 11 am (tide permitting) with a 1600 Open Endurance Race and flat races within specified divisions on the beach.\n\nFun for the whole family.\n\nEntry Cost\nAll tickets $5 
LOCATION:\, Perlubie\, SA 5680\, SA\, 5680
END:VEVENT
END:VCALENDAR
