BEGIN:VCALENDAR
VERSION:2.0
PRODID:-//My Community Diary//iCal Event//EN
CALSCALE:GREGORIAN
METHOD:PUBLISH
BEGIN:VEVENT
UID:96f8269f-d015-42cc-8fcb-e4ed516a3b9a
DTSTAMP:20260424T155947Z
DTSTART:20200621T000000Z
DTEND:20200621T235959Z
SUMMARY:Carrara Markets Car Boot Sale
DESCRIPTION:Carrara Markets is famous for its Sunday morning Car Boot Sale!\n\nIf you love a second-hand bargain then you're sure to find it amongst the boots full of preloved fashion\, books\, toys\, homewares\, tools\, bibs and bobs!\n\nIf you have a garage full of stuff you don't know what to do with\, then you can make some cash from your trash by becoming a car boot seller!\n\nCarrara Markets Car Boot Sale. Every Sunday morning from 7am to 11am.\n\n?No need to book to be a seller.\n\nEntry Cost\nVehicle $20  - To be a Car Boot Seller there is a sellers fee of AUD20.\nPay on the day. No booking required.\nPayment in cash only.\n\nFree entry for shoppers to visit the Car Boot Sale.
LOCATION:\, Corner Manchester Road and Gooding Drive\, Carrara\, QLD 4211\, QLD\, 4211
RRULE:FREQ=DAILY;INTERVAL=1;UNTIL=20240129T000000Z
END:VEVENT
END:VCALENDAR
