BEGIN:VCALENDAR
VERSION:2.0
PRODID:-//My Community Diary//iCal Event//EN
CALSCALE:GREGORIAN
METHOD:PUBLISH
BEGIN:VEVENT
UID:206bf2bf-cc0f-4a0d-a86f-94b8fdc920ee
DTSTAMP:20260424T160640Z
DTSTART:20240420T080000Z
DTEND:20240420T160000Z
SUMMARY:Australian Body Art Festival
DESCRIPTION:The Australian Body Art Festival is Australia’s premier body painting event\, attracting artists and spectators from across Australia and overseas. Inspiring artworks\, street performers\, market stalls and lots of fun all weekend!\n\nThis event is returning to Eumundi in 2024.  This event is a 'A Festival of Colour' centred on competitions in full body painting (temporary art— not tattoo) with body painting  competitions in the categories of brush and sponge\, airbrush\, special effects and face painting. The event also showcases competitions and exhibitions in wearable art and surfboard art.  For members of the public\, it will be nothing short of phenomenal to watch the art take shape right in front of their eyes throughout the weekend.\n\nThe event is free and it is a visual feast for the senses. \n\nThe Australian Body Art Festival is a free not-for profit event hosted by the Eumundi & District Historical Association (EDHA)  and possible with thanks to the generosity of its funding partners.
LOCATION:\, 76 Memorial Drive\, Eumundi\, QLD 4562\, QLD\, 4562
RRULE:FREQ=DAILY;INTERVAL=1;UNTIL=20240422T000000Z
END:VEVENT
END:VCALENDAR
