BEGIN:VCALENDAR
VERSION:2.0
PRODID:-//My Community Diary//iCal Event//EN
CALSCALE:GREGORIAN
METHOD:PUBLISH
BEGIN:VEVENT
UID:8005122f-5762-4ccc-b6b4-556579cb200e
DTSTAMP:20260424T173012Z
DTSTART;VALUE=DATE:20200615
DTEND;VALUE=DATE:20200616
SUMMARY:Mental Health and Alcohol & other Drug Services 
DESCRIPTION:Referrals may be from GP\, local Hospital or Health Clinic\, other service provider\, family/carers or self\n\nServices include Intake/Triage\, Older Person’s and Perinatal Psychiatry\, Child &amp\; Youth Psychiatry\, Case Management. Assessment and treatment options for people with Drug and Alcohol issues. Referral to other agencies for ongoing care and/or support. Services are provided in Roma\, Charleville\, St George and surrounding districts.\n\nThere is a 24hour crisis phone service on 1300 MHCALL (1300 648855) which goes to the nearest service and afterhours and weekends the call diverts to Toowoomba Acute Care Team.\n\nSocial and Emotional Health Team provides Social Work services to the Western Sector for South West including Charleville and Cunnamulla and surrounding communities.\n\nReferral is through the GP\, local Hospital or Health Clinic\, other service provider\, family/carers or self\n\nServices include support for social and emotional health issues\, grief and trauma support\, advocacy\, referral to other services and support to link with other services\,\n\n&nbsp\;\n
LOCATION:Community Mental Health Services - Roma\, 61 Arthur Street\, Roma QLD 4455\, QLD\, 4455
RRULE:FREQ=WEEKLY;BYDAY=MO,TU,WE,TH,FR
END:VEVENT
END:VCALENDAR
