BEGIN:VCALENDAR
VERSION:2.0
PRODID:-//My Community Diary//iCal Event//EN
CALSCALE:GREGORIAN
METHOD:PUBLISH
BEGIN:VEVENT
UID:09775a7c-2e15-4933-85a2-fb6c2f7b10a8
DTSTAMP:20260421T205433Z
DTSTART;TZID=E. Australia Standard Time:20200626T080000
DTEND;TZID=E. Australia Standard Time:20200626T163000
SUMMARY:Children's Hearing Screening - Roma
DESCRIPTION:The Child health nurses provide preliminary hearing screening for children 0-12 years. To make an appointment\, please phone and ask for the primary care admin staff who will support you.&nbsp\;\n\nPlease remember to bring your Medicare card details to your appointment.&nbsp\;\n\n&nbsp\;\n
LOCATION:Roma Community Health Centre\, 59-61 Arthur Street\, Roma QLD 4455\, QLD\, 4455
RRULE:FREQ=WEEKLY;INTERVAL=2;BYDAY=FR
END:VEVENT
END:VCALENDAR
