BEGIN:VCALENDAR
VERSION:2.0
PRODID:-//My Community Diary//iCal Event//EN
CALSCALE:GREGORIAN
METHOD:PUBLISH
BEGIN:VEVENT
UID:61c862f0-3a87-44bb-804f-5bbaa22816e7
DTSTAMP:20260424T164409Z
DTSTART;TZID=W. Australia Standard Time:20200617T190000
DTEND;TZID=W. Australia Standard Time:20200617T204500
SUMMARY:Busselton Lions Club Meeting
DESCRIPTION:Club dinner meeting where the projects and activities of the Club are discussed and guest speakers talk to members.\n
LOCATION:Busselton Men's Shed\, 555 Roe Terrace\, Busselton WA 6280\, WA\, 6280
RRULE:FREQ=MONTHLY;INTERVAL=1;BYDAY=3MO
END:VEVENT
END:VCALENDAR
