BEGIN:VCALENDAR
VERSION:2.0
PRODID:-//My Community Diary//iCal Event//EN
CALSCALE:GREGORIAN
METHOD:PUBLISH
BEGIN:VEVENT
UID:669cf981-bbb3-4305-b3fd-dca7d0752e9e
DTSTAMP:20260424T164532Z
DTSTART:20240518T070000Z
DTEND:20240518T140000Z
SUMMARY:The Great Adventure Challenge
DESCRIPTION:The Great Adventure Challenge is an exciting\, demanding and fun\, multisport team based corporate adventure race. It covers a range of activities from mountain biking\, trail running\, kayaking and coasteering\, teams are also confronted with mystery tasks\, to test the boundaries of both brain and body.\n\nAdventurers don’t need to be professional athletes\, nor experts in all disciplines\, because the event is about working\, training and competing together as a team\, across a course designed to test and push your limits.\n\nExpect the unexpected – as well as physical and mental challenge\, they promise to deliver an event that is fresh\, upbeat and above all fun.\n\nThe Great Adventure Challenge inspiration and purpose today\, is to make a real difference by brightening the lives of seriously ill children in Australia. Teams are encouraged to raise vital funds for the Starlight Children’s Foundation\, giving Adventurers a huge sense of achievement both from a racing and fundraising perspective.\n\nSince launch\, in 2008\, the Great Adventure Challenge has continued to grow\, both in terms of Adventurers and monies raised\, with many of Adventurers coming back for more!
LOCATION:\, Sydney\, NSW 2000\, NSW\, 2000
END:VEVENT
END:VCALENDAR
