BEGIN:VCALENDAR
VERSION:2.0
PRODID:-//My Community Diary//iCal Event//EN
CALSCALE:GREGORIAN
METHOD:PUBLISH
BEGIN:VEVENT
UID:0c86f106-a772-448d-b345-fe0a2405f350
DTSTAMP:20260424T160120Z
DTSTART;TZID=E. Australia Standard Time:20200607T070000
DTEND;TZID=E. Australia Standard Time:20200607T120000
SUMMARY:Logan Regional Markets
DESCRIPTION:We are excited to announce that the Logan Regional Markets are back on the Logan Village Green. Our market features small and micro businesses that make\, craft\, or produce gifts\, jewellery\, condiments\, treats\, and homewares. We have some really creative businesses in Logan - come and experience and explore.\n\nFree entry\, free street parking\nLions sausage sizzle\, hot and cold drinks\, sweet treats and more.\n
LOCATION:Logan Village Green\, Logan Village playground\, Wharf St\, Logan Village QLD 4207\, Australia\, QLD\, 4207
RRULE:FREQ=MONTHLY;INTERVAL=1;BYDAY=3MO
END:VEVENT
END:VCALENDAR
