BEGIN:VCALENDAR
VERSION:2.0
PRODID:-//My Community Diary//iCal Event//EN
CALSCALE:GREGORIAN
METHOD:PUBLISH
BEGIN:VEVENT
UID:85dd0b25-e911-4b6a-b964-1002400ab92a
DTSTAMP:20260424T160645Z
DTSTART;TZID=AUS Eastern Standard Time:20200607T080000
DTEND;TZID=AUS Eastern Standard Time:20200607T140000
SUMMARY:Harbourside Markets
DESCRIPTION:A Makers &amp\; Growers Market held every Sunday from 8am to 2pm beside our beautiful historic Jetty in Coffs Harbour.\n\nCome along and enjoy the thrill of discovery in an authentic outdoor market bursting at the seams with a great range of fresh local produce\, tasty foods\, delicious coffee as well as unique art and craft.\n\nWe have a philosophy of ethical and fair-trade\, locally made\, locally grown\, vintage and collectable so you are guaranteed a unique experience.\n\nWe offer free live music\, entertainment and community events for you and the kids. Help us stay COVID SAFE and bring along your own chairs and picnic blanket. Sit back &amp\; relax and enjoy your Sunday in style!\n\nDogs are permitted in the market space on a lead and our council approved leash-free dog beach is a short walk away if they need a good run!\n\nA great place to relax with the locals and soak up the beachside vibe.\n\nCheck our&nbsp\;Facebook page&nbsp\;for market updates.\n
LOCATION:Harbourside Markets\, Marina Drive\, Coffs Harbour NSW 2450\, NSW\, 2450
RRULE:FREQ=WEEKLY;INTERVAL=1;BYDAY=SU
END:VEVENT
END:VCALENDAR
