BEGIN:VCALENDAR
VERSION:2.0
PRODID:-//My Community Diary//iCal Event//EN
CALSCALE:GREGORIAN
METHOD:PUBLISH
BEGIN:VEVENT
UID:3c5c24e3-a52b-464e-b8e3-11a98795bad2
DTSTAMP:20260424T160803Z
DTSTART;VALUE=DATE:20200603
DTEND;VALUE=DATE:20200604
SUMMARY:Welfare Parcels
DESCRIPTION:We offer Welfare Parcels of long life and care items for those in need. Our opening hours are Wednesday-Thursday from 9am-12pm. Please call the Office on 3204 1311 for availability.&nbsp\;\n
LOCATION:Deception Bay Baptist Church\, 69 Maine Terrace\, Deception Bay QLD 4508\, QLD\, 4508
RRULE:FREQ=WEEKLY;BYDAY=MO,TU,WE,TH,FR
END:VEVENT
END:VCALENDAR
