BEGIN:VCALENDAR
VERSION:2.0
PRODID:-//My Community Diary//iCal Event//EN
CALSCALE:GREGORIAN
METHOD:PUBLISH
BEGIN:VEVENT
UID:2f5c982c-28ac-445e-85bf-c805b2855544
DTSTAMP:20260424T164547Z
DTSTART;TZID=W. Australia Standard Time:20200609T093000
DTEND;TZID=W. Australia Standard Time:20200609T150000
SUMMARY:Indoor/Carpet Bowls
DESCRIPTION:Indoor/carpet bowls commencing on 09/06/2020\n
LOCATION:Cockburn Senior Citizen's Association (Inc.)\, 9 Young Pl\, Hamilton Hill WA 6163\, WA\, 6163
RRULE:FREQ=WEEKLY;INTERVAL=1;BYDAY=TU
END:VEVENT
END:VCALENDAR
